BEGIN:VCALENDAR
VERSION:2.0
PRODID:-//Federatia Romana de Judo - ECPv5.1.5//NONSGML v1.0//EN
CALSCALE:GREGORIAN
METHOD:PUBLISH
X-WR-CALNAME:Federatia Romana de Judo
X-ORIGINAL-URL:https://www.frjudo.ro
X-WR-CALDESC:Events for Federatia Romana de Judo
BEGIN:VTIMEZONE
TZID:Europe/Bucharest
BEGIN:DAYLIGHT
TZOFFSETFROM:+0200
TZOFFSETTO:+0300
TZNAME:EEST
DTSTART:20260329T010000
END:DAYLIGHT
BEGIN:STANDARD
TZOFFSETFROM:+0300
TZOFFSETTO:+0200
TZNAME:EET
DTSTART:20261025T010000
END:STANDARD
END:VTIMEZONE
BEGIN:VEVENT
DTSTART;VALUE=DATE:20260326
DTEND;VALUE=DATE:20260327
DTSTAMP:20260422T083815
CREATED:20260223T114200Z
LAST-MODIFIED:20260223T114200Z
UID:26071-1774483200-1774569599@www.frjudo.ro
SUMMARY:Adunarea Generala a Federatiei Romane de Judo
DESCRIPTION:\n\nStimati membri afiliati\,\n\n \nIn data de 26 Martie 2026\, cu incepere de la ora 14:00\, va avea loc Adunarea Generala Ordinara a Federatiei Romane de Judo. Locatia stabilita pentru aceasta sedinta este Complex Olimpic “Sydney 2000” Izvorani. \n \n\nMai jos puteti consulta toate documentele acestei sedinte:\n\n \n\n Convocator AG (Descarca PDF)\n\n \n\n Delegatie participare AG (Descarca Word)\n\n \n\n Popuneri modificari statut (Descarca PDF)\n\n
URL:https://www.frjudo.ro/event/adunarea-generala-a-federatiei-romane-de-judo-3/
ORGANIZER;CN="Federatia%20Romana%20de%20Judo":MAILTO:office@frjudo.ro
END:VEVENT
END:VCALENDAR