BEGIN:VCALENDAR
VERSION:2.0
PRODID:-//Federatia Romana de Judo - ECPv5.1.5//NONSGML v1.0//EN
CALSCALE:GREGORIAN
METHOD:PUBLISH
X-WR-CALNAME:Federatia Romana de Judo
X-ORIGINAL-URL:https://www.frjudo.ro
X-WR-CALDESC:Events for Federatia Romana de Judo
BEGIN:VTIMEZONE
TZID:Europe/Bucharest
BEGIN:DAYLIGHT
TZOFFSETFROM:+0200
TZOFFSETTO:+0300
TZNAME:EEST
DTSTART:20260329T010000
END:DAYLIGHT
BEGIN:STANDARD
TZOFFSETFROM:+0300
TZOFFSETTO:+0200
TZNAME:EET
DTSTART:20261025T010000
END:STANDARD
END:VTIMEZONE
BEGIN:VEVENT
DTSTART;VALUE=DATE:20260313
DTEND;VALUE=DATE:20260316
DTSTAMP:20260420T084428
CREATED:20260217T143813Z
LAST-MODIFIED:20260217T144054Z
UID:26046-1773360000-1773619199@www.frjudo.ro
SUMMARY:CN Individual U14-U16\, Bucuresti
DESCRIPTION:* ATENTIE!!! Se vor inscrie sportivii in RouJudo\, separat pentru fiecare competitie in parte!\n Regulament concurs U14 \n Regulament concurs U16 \n \n  \n  \n  \n  \n!!! Accesul în tribune la competiție se face pe bază de bilet de intrare\, în valoare de 30 lei/persoană\, pentru toate persoanele neacreditate (spectatori\, părinți etc.).\nContravaloarea biletului este încasată exclusiv de către administratorul bazei sportive – SC Complexul Sportiv Apollo SRL București.\n \n
URL:https://www.frjudo.ro/event/cn-individual-u14-u16-bucuresti/
LOCATION:Centrul Sportiv Apollo\, Bulevardul Energeticienilor 5\, București\, 077160\, Romania
CATEGORIES:Campionate Nationale
ORGANIZER;CN="Federatia%20Romana%20de%20Judo":MAILTO:office@frjudo.ro
END:VEVENT
END:VCALENDAR