BEGIN:VCALENDAR
VERSION:2.0
PRODID:-//Federatia Romana de Judo - ECPv5.1.5//NONSGML v1.0//EN
CALSCALE:GREGORIAN
METHOD:PUBLISH
X-WR-CALNAME:Federatia Romana de Judo
X-ORIGINAL-URL:https://www.frjudo.ro
X-WR-CALDESC:Events for Federatia Romana de Judo
BEGIN:VTIMEZONE
TZID:Europe/Bucharest
BEGIN:DAYLIGHT
TZOFFSETFROM:+0200
TZOFFSETTO:+0300
TZNAME:EEST
DTSTART:20250330T010000
END:DAYLIGHT
BEGIN:STANDARD
TZOFFSETFROM:+0300
TZOFFSETTO:+0200
TZNAME:EET
DTSTART:20251026T010000
END:STANDARD
END:VTIMEZONE
BEGIN:VEVENT
DTSTART;VALUE=DATE:20250530
DTEND;VALUE=DATE:20250601
DTSTAMP:20260420T231005
CREATED:20250513T145335Z
LAST-MODIFIED:20250513T155826Z
UID:24655-1748563200-1748735999@www.frjudo.ro
SUMMARY:Concurs National Individual U12\, Navodari
DESCRIPTION: Regulament concurs U12 \n \n  \n  \n  \n
URL:https://www.frjudo.ro/event/concurs-national-individual-u12-navodari/
CATEGORIES:Campionate Nationale
ATTACH;FMTTYPE=image/jpeg:https://www.frjudo.ro/wp-content/uploads/2022/08/FRJ-site-calendar.jpg
ORGANIZER;CN="Federatia%20Romana%20de%20Judo":MAILTO:office@frjudo.ro
END:VEVENT
END:VCALENDAR