BEGIN:VCALENDAR
VERSION:2.0
PRODID:-//Federatia Romana de Judo - ECPv5.1.5//NONSGML v1.0//EN
CALSCALE:GREGORIAN
METHOD:PUBLISH
X-WR-CALNAME:Federatia Romana de Judo
X-ORIGINAL-URL:https://www.frjudo.ro
X-WR-CALDESC:Events for Federatia Romana de Judo
BEGIN:VTIMEZONE
TZID:Europe/Bucharest
BEGIN:DAYLIGHT
TZOFFSETFROM:+0200
TZOFFSETTO:+0300
TZNAME:EEST
DTSTART:20250330T010000
END:DAYLIGHT
BEGIN:STANDARD
TZOFFSETFROM:+0300
TZOFFSETTO:+0200
TZNAME:EET
DTSTART:20251026T010000
END:STANDARD
END:VTIMEZONE
BEGIN:VEVENT
DTSTART;VALUE=DATE:20250131
DTEND;VALUE=DATE:20250203
DTSTAMP:20260421T042541
CREATED:20250113T111506Z
LAST-MODIFIED:20250113T111506Z
UID:25051-1738281600-1738540799@www.frjudo.ro
SUMMARY:Stagiul Nation de Pregatire\, Satu Mare
DESCRIPTION: Invitatie stagiu \n
URL:https://www.frjudo.ro/event/stagiul-nation-de-pregatire-satu-mare/
LOCATION:Sala „Ecaterina Both”\, Ady Endre\, Satu Mare\, Romania
CATEGORIES:Stagii
ATTACH;FMTTYPE=image/jpeg:https://www.frjudo.ro/wp-content/uploads/2022/08/FRJ-site-calendar.jpg
END:VEVENT
END:VCALENDAR