BEGIN:VCALENDAR
VERSION:2.0
PRODID:-//Federatia Romana de Judo - ECPv5.1.5//NONSGML v1.0//EN
CALSCALE:GREGORIAN
METHOD:PUBLISH
X-WR-CALNAME:Federatia Romana de Judo
X-ORIGINAL-URL:https://www.frjudo.ro
X-WR-CALDESC:Events for Federatia Romana de Judo
BEGIN:VTIMEZONE
TZID:Europe/Bucharest
BEGIN:DAYLIGHT
TZOFFSETFROM:+0200
TZOFFSETTO:+0300
TZNAME:EEST
DTSTART:20240331T010000
END:DAYLIGHT
BEGIN:STANDARD
TZOFFSETFROM:+0300
TZOFFSETTO:+0200
TZNAME:EET
DTSTART:20241027T010000
END:STANDARD
END:VTIMEZONE
BEGIN:VEVENT
DTSTART;VALUE=DATE:20241108
DTEND;VALUE=DATE:20241111
DTSTAMP:20260421T061451
CREATED:20241031T110857Z
LAST-MODIFIED:20241031T110857Z
UID:24893-1731024000-1731283199@www.frjudo.ro
SUMMARY:T.I. Sosha Judo Cup\, Bacau
DESCRIPTION: Invitatie concurs \n
URL:https://www.frjudo.ro/event/t-i-sosha-judo-cup-bacau/
CATEGORIES:Cupe Nationale
END:VEVENT
END:VCALENDAR