BEGIN:VCALENDAR
VERSION:2.0
PRODID:-//Federatia Romana de Judo - ECPv5.1.5//NONSGML v1.0//EN
CALSCALE:GREGORIAN
METHOD:PUBLISH
X-WR-CALNAME:Federatia Romana de Judo
X-ORIGINAL-URL:https://www.frjudo.ro
X-WR-CALDESC:Events for Federatia Romana de Judo
BEGIN:VTIMEZONE
TZID:Europe/Bucharest
BEGIN:DAYLIGHT
TZOFFSETFROM:+0200
TZOFFSETTO:+0300
TZNAME:EEST
DTSTART:20250330T010000
END:DAYLIGHT
BEGIN:STANDARD
TZOFFSETFROM:+0300
TZOFFSETTO:+0200
TZNAME:EET
DTSTART:20251026T010000
END:STANDARD
END:VTIMEZONE
BEGIN:VEVENT
DTSTART;VALUE=DATE:20250404
DTEND;VALUE=DATE:20250407
DTSTAMP:20260421T061322
CREATED:20250312T104804Z
LAST-MODIFIED:20250312T134908Z
UID:24384-1743724800-1743983999@www.frjudo.ro
SUMMARY:Campionatul National U23\, Satu Mare
DESCRIPTION: Regulament concurs_ver1 (PDF) \n \n
URL:https://www.frjudo.ro/event/campionatul-national-u23-satu-mare/
LOCATION:Sala „Ecaterina Both”\, Ady Endre\, Satu Mare\, Romania
CATEGORIES:Campionate Nationale
ATTACH;FMTTYPE=image/jpeg:https://www.frjudo.ro/wp-content/uploads/2022/08/FRJ-site-calendar.jpg
ORGANIZER;CN="Federatia%20Romana%20de%20Judo":MAILTO:office@frjudo.ro
END:VEVENT
END:VCALENDAR