BEGIN:VCALENDAR
VERSION:2.0
PRODID:-//Federatia Romana de Judo - ECPv5.1.5//NONSGML v1.0//EN
CALSCALE:GREGORIAN
METHOD:PUBLISH
X-WR-CALNAME:Federatia Romana de Judo
X-ORIGINAL-URL:https://www.frjudo.ro
X-WR-CALDESC:Events for Federatia Romana de Judo
BEGIN:VTIMEZONE
TZID:Europe/Bucharest
BEGIN:DAYLIGHT
TZOFFSETFROM:+0200
TZOFFSETTO:+0300
TZNAME:EEST
DTSTART:20240331T010000
END:DAYLIGHT
BEGIN:STANDARD
TZOFFSETFROM:+0300
TZOFFSETTO:+0200
TZNAME:EET
DTSTART:20241027T010000
END:STANDARD
END:VTIMEZONE
BEGIN:VEVENT
DTSTART;VALUE=DATE:20240907
DTEND;VALUE=DATE:20240908
DTSTAMP:20260423T094243
CREATED:20230927T094516Z
LAST-MODIFIED:20240809T141318Z
UID:23772-1725667200-1725753599@www.frjudo.ro
SUMMARY:Cupa Koka's Molekula\, Miercurea Ciuc
DESCRIPTION: Invitatie concurs \n
URL:https://www.frjudo.ro/event/cupa-kokas-molekula-miercurea-ciuc/
LOCATION:Sala Sporturilor “Erőss Zsolt Aréna”\, Strada Stadion\, Miercurea Ciuc\, Harghita\, 530003\, Romania
CATEGORIES:Cupe Nationale
END:VEVENT
END:VCALENDAR