BEGIN:VCALENDAR
VERSION:2.0
PRODID:-//Federatia Romana de Judo - ECPv5.1.5//NONSGML v1.0//EN
CALSCALE:GREGORIAN
METHOD:PUBLISH
X-WR-CALNAME:Federatia Romana de Judo
X-ORIGINAL-URL:https://www.frjudo.ro
X-WR-CALDESC:Events for Federatia Romana de Judo
BEGIN:VTIMEZONE
TZID:Europe/Bucharest
BEGIN:DAYLIGHT
TZOFFSETFROM:+0200
TZOFFSETTO:+0300
TZNAME:EEST
DTSTART:20250330T010000
END:DAYLIGHT
BEGIN:STANDARD
TZOFFSETFROM:+0300
TZOFFSETTO:+0200
TZNAME:EET
DTSTART:20251026T010000
END:STANDARD
END:VTIMEZONE
BEGIN:VEVENT
DTSTART;VALUE=DATE:20250214
DTEND;VALUE=DATE:20250216
DTSTAMP:20260421T023548
CREATED:20250127T133240Z
LAST-MODIFIED:20250127T133828Z
UID:24138-1739491200-1739663999@www.frjudo.ro
SUMMARY:Cupa Drobeta\, Memorialul Mirela Vasilan
DESCRIPTION: Invitatie concurs \n
URL:https://www.frjudo.ro/event/cupa-drobeta-memorialul-mirela-vasilan/
LOCATION:Sala Polivalenta Drobeta Turnu Severin\, Bulevardul Aluniș 1\, Drobeta Turnu Severin\, Romania
CATEGORIES:Cupe Nationale
END:VEVENT
END:VCALENDAR