BEGIN:VCALENDAR
VERSION:2.0
PRODID:-//Federatia Romana de Judo - ECPv5.1.5//NONSGML v1.0//EN
CALSCALE:GREGORIAN
METHOD:PUBLISH
X-WR-CALNAME:Federatia Romana de Judo
X-ORIGINAL-URL:https://www.frjudo.ro
X-WR-CALDESC:Events for Federatia Romana de Judo
BEGIN:VTIMEZONE
TZID:Europe/Bucharest
BEGIN:DAYLIGHT
TZOFFSETFROM:+0200
TZOFFSETTO:+0300
TZNAME:EEST
DTSTART:20250330T010000
END:DAYLIGHT
BEGIN:STANDARD
TZOFFSETFROM:+0300
TZOFFSETTO:+0200
TZNAME:EET
DTSTART:20251026T010000
END:STANDARD
END:VTIMEZONE
BEGIN:VEVENT
DTSTART;VALUE=DATE:20250601
DTEND;VALUE=DATE:20250602
DTSTAMP:20260420T194434
CREATED:20250412T203136Z
LAST-MODIFIED:20250421T081805Z
UID:25296-1748736000-1748822399@www.frjudo.ro
SUMMARY:Cupa 07Navodari  Editia a II a - Memorialul Florinel Burhala
DESCRIPTION:Invitatie – Click aici\n \nInscrieri – Click aici\n \nData  : 01 iunie 2025\nLocatie : Navodari\, Strada Stadionului Nr 7\nPersoana de contact Stefan Lazar\, 0762863274\, 0241700000\, judo@navodari.ro\nLa Navodari se organizeaza si U12 in data de 31 mai 2025\n
URL:https://www.frjudo.ro/event/cupa-07navodari-editia-a-ii-a-memorialul-florin-burhala/
CATEGORIES:Cupe Nationale
ATTACH;FMTTYPE=image/jpeg:https://www.frjudo.ro/wp-content/uploads/2025/04/cupa-mem-burhala.jpg
ORGANIZER;CN="AS%2007Navodari":MAILTO:contact@07navodari.ro
END:VEVENT
END:VCALENDAR